BEGIN:VCALENDAR
VERSION:2.0
PRODID:-//New England Railroad Club - ECPv4.7.1//NONSGML v1.0//EN
CALSCALE:GREGORIAN
METHOD:PUBLISH
X-WR-CALNAME:New England Railroad Club
X-ORIGINAL-URL:https://www.nerailroadclub.com
X-WR-CALDESC:Events for New England Railroad Club
BEGIN:VEVENT
DTSTART;VALUE=DATE:20260514
DTEND;VALUE=DATE:20260515
DTSTAMP:20260422T124945
CREATED:20240329T215912Z
LAST-MODIFIED:20260320T184037Z
UID:1887-1778716800-1778803199@www.nerailroadclub.com
SUMMARY:May 2026 - Scholarship Golf Classic
DESCRIPTION:\n  \n2026 Scholarship Golf Classic\nThursday\, May 14\, 2026\nTwo Ticket Types are Available for this Event.\nFull Day Tickets – Includes Lunch\, Golf\, and the Lobster Dinner.\nGolf is limited to 144 players and will sell out quickly. Please register as early as possible to ensure your foursomes. \nGolf\, Lunch\, and Dinner Tickets \nDinner Only Tickets – Includes Cocktail Hour and the Lobster Dinner\nDinner Only Tickets \nSponsorships \nSponsorship Options \nLocation\nFERNCROFT COUNTRY CLUB\, MIDDLETON\, MA \n\nOrder of Events \n10:30 am Registration Opens \n50/50 Raffle Tickets can be purchased- 3 tickets for $5 and 15 tickets for $20 \n10:30-12:00 Lunch served in the Ballroom \n12:00-5:00 Call to Carts and Tee Off \n5:30-6:30 Cocktails on Cielo Deck \n6:45 Lobster Dinner—Cash Bar \n\n  \n  \n  \n  \n
URL:https://www.nerailroadclub.com/event/2026-scholarship-golf-classic/
LOCATION:FERNCROFT COUNTRY CLUB\, MIDDLETON\, MA\, 10 Village Rd\, Middleton\, MA\, 01949\, United States
CATEGORIES:Golf Classic
END:VEVENT
END:VCALENDAR